BEGIN:VCALENDAR
VERSION:2.0
PRODID:spatie/icalendar-generator
DESCRIPTION:Events from The Catholic Travel Guide
X-WR-CALDESC:Events from The Catholic Travel Guide
REFRESH-INTERVAL;VALUE=DURATION:PT1440M
X-PUBLISHED-TTL:PT1440M
BEGIN:VTIMEZONE
TZID:America/Chicago
BEGIN:STANDARD
DTSTART:20251102T020000Z
TZOFFSETFROM:-0500
TZOFFSETTO:-0600
END:STANDARD
BEGIN:DAYLIGHT
DTSTART:20260308T020000Z
TZOFFSETFROM:-0600
TZOFFSETTO:-0500
END:DAYLIGHT
END:VTIMEZONE
BEGIN:VTIMEZONE
TZID:UTC
BEGIN:STANDARD
DTSTART:20250723T145502Z
TZOFFSETFROM:+0000
TZOFFSETTO:+0000
END:STANDARD
END:VTIMEZONE
BEGIN:VEVENT
UID:24891-1570
DTSTAMP:20260419T145502Z
SUMMARY:Feast of Saint Liduina (Lidwina)
LOCATION:
ORGANIZER;CN=admin:MAILTO:info@thecatholictravelguide.com
RRULE:FREQ=YEARLY;BYMONTH=04;BYDAY=14;UNTIL=20350414T000000Z
DTSTART;TZID=America/Chicago;VALUE=DATE:20260414
DTEND;TZID=America/Chicago;VALUE=DATE:20260415
X-ALT-DESC;FMTTYPE=TEXT/HTML:Lidwina was a Dutch mystic who is honored as a
  saint by the Catholic Church. She is the patroness saint of the town of S
 chiedam\, of chronic pain\, and of ice skating. Lidwina is also thought to
  be one of the first documented cases of multiple sclerosis. You will find
  her shrine here in Schiedam\,&amp;hellip\;
CATEGORIES:Feast Days,  Solemnities &amp; Memorials
URL;VALUE=URI:https://thecatholictravelguide.com/mc-events/feast-of-saint-l
 iduina-lidwina/?mc_id=24891
METHOD:PUBLISH
END:VEVENT
END:VCALENDAR