BEGIN:VCALENDAR
VERSION:2.0
PRODID:spatie/icalendar-generator
DESCRIPTION:Events from The Catholic Travel Guide
X-WR-CALDESC:Events from The Catholic Travel Guide
REFRESH-INTERVAL;VALUE=DURATION:PT1440M
X-PUBLISHED-TTL:PT1440M
BEGIN:VTIMEZONE
TZID:America/Chicago
BEGIN:STANDARD
DTSTART:20241103T020000Z
TZOFFSETFROM:-0500
TZOFFSETTO:-0600
END:STANDARD
BEGIN:DAYLIGHT
DTSTART:20250309T020000Z
TZOFFSETFROM:-0600
TZOFFSETTO:-0500
END:DAYLIGHT
END:VTIMEZONE
BEGIN:VTIMEZONE
TZID:UTC
BEGIN:STANDARD
DTSTART:20250724T210636Z
TZOFFSETFROM:+0000
TZOFFSETTO:+0000
END:STANDARD
END:VTIMEZONE
BEGIN:VEVENT
UID:19079-779
DTSTAMP:20260420T210636Z
SUMMARY:New York City: First Christmas Tree in Rockefeller Center
LOCATION:
ORGANIZER;CN=admin:MAILTO:info@thecatholictravelguide.com
RRULE:FREQ=YEARLY;BYMONTH=12;BYDAY=24;UNTIL=20331224T000000Z
DTSTART;TZID=America/Chicago:20241224T130000
DTEND;TZID=America/Chicago:20241224T140000
X-ALT-DESC;FMTTYPE=TEXT/HTML:All most of us are familiar with the Christmas
  tree in Rockefeller Center in New York City at Christmas time\, many are 
 not familiar with its origins. On Christmas Eve\, 1931\, at the height of 
 the Great Depression\, workers at the Rockefeller Center construction site
  decided to pool their money together to buy a Christmas&amp;hellip\;
CATEGORIES:Historical Events
URL;VALUE=URI:https://thecatholictravelguide.com/mc-events/new-york-city-fi
 rst-christmas-tree-in-rockefeller-center/?mc_id=19079
METHOD:PUBLISH
END:VEVENT
END:VCALENDAR