BEGIN:VCALENDAR
VERSION:2.0
PRODID:spatie/icalendar-generator
DESCRIPTION:Events from The Catholic Travel Guide
X-WR-CALDESC:Events from The Catholic Travel Guide
REFRESH-INTERVAL;VALUE=DURATION:PT1440M
X-PUBLISHED-TTL:PT1440M
BEGIN:VTIMEZONE
TZID:America/Chicago
BEGIN:STANDARD
DTSTART:20251102T020000Z
TZOFFSETFROM:-0500
TZOFFSETTO:-0600
END:STANDARD
BEGIN:DAYLIGHT
DTSTART:20260308T020000Z
TZOFFSETFROM:-0600
TZOFFSETTO:-0500
END:DAYLIGHT
END:VTIMEZONE
BEGIN:VTIMEZONE
TZID:UTC
BEGIN:STANDARD
DTSTART:20250723T145409Z
TZOFFSETFROM:+0000
TZOFFSETTO:+0000
END:STANDARD
END:VTIMEZONE
BEGIN:VEVENT
UID:22141-1472
DTSTAMP:20260419T145409Z
SUMMARY:Feast of Saint Catherine of Siena
LOCATION:
ORGANIZER;CN=admin:MAILTO:info@thecatholictravelguide.com
RRULE:FREQ=YEARLY;BYMONTH=04;BYDAY=29;UNTIL=20350429T000000Z
DTSTART;TZID=America/Chicago;VALUE=DATE:20260429
DTEND;TZID=America/Chicago;VALUE=DATE:20260430
X-ALT-DESC;FMTTYPE=TEXT/HTML:Here Shrine is here in Rome in the Basilica of
  Santa Maria Sopra Minerva When her Feast Day was added to the Roman Calen
 dar in 1597\, it was put on the day of her death\, April 29. Because of a 
 conflict with the feast of Saint Peter of Verona\, which was also on April
  29\,&amp;hellip\;
CATEGORIES:General
URL;VALUE=URI:https://thecatholictravelguide.com/mc-events/feast-of-saint-c
 atherine-of-siena/?mc_id=22141
METHOD:PUBLISH
END:VEVENT
END:VCALENDAR