BEGIN:VCALENDAR
VERSION:2.0
PRODID:spatie/icalendar-generator
DESCRIPTION:Events from The Catholic Travel Guide
X-WR-CALDESC:Events from The Catholic Travel Guide
REFRESH-INTERVAL;VALUE=DURATION:PT1440M
X-PUBLISHED-TTL:PT1440M
BEGIN:VTIMEZONE
TZID:America/Chicago
BEGIN:STANDARD
DTSTART:20291104T020000Z
TZOFFSETFROM:-0500
TZOFFSETTO:-0600
END:STANDARD
BEGIN:DAYLIGHT
DTSTART:20300310T020000Z
TZOFFSETFROM:-0600
TZOFFSETTO:-0500
END:DAYLIGHT
BEGIN:STANDARD
DTSTART:20301103T020000Z
TZOFFSETFROM:-0500
TZOFFSETTO:-0600
END:STANDARD
END:VTIMEZONE
BEGIN:VTIMEZONE
TZID:UTC
BEGIN:STANDARD
DTSTART:20250725T145317Z
TZOFFSETFROM:+0000
TZOFFSETTO:+0000
END:STANDARD
END:VTIMEZONE
BEGIN:VEVENT
UID:14527-678
DTSTAMP:20260421T145317Z
SUMMARY:Feast of Saint Lawrence of Brindisi...Doctor of the Church
LOCATION:
ORGANIZER;CN=admin:MAILTO:info@thecatholictravelguide.com
RRULE:FREQ=YEARLY;BYMONTH=07;BYDAY=21;UNTIL=20330721T000000Z
DTSTART;TZID=America/Chicago;VALUE=DATE:20300721
DTEND;TZID=America/Chicago;VALUE=DATE:20300722
X-ALT-DESC;FMTTYPE=TEXT/HTML:You will find his tomb here in Villafranca de 
 Bierzo\, Spain.
CATEGORIES:Feast Days,  Solemnities &amp; Memorials
URL;VALUE=URI:https://thecatholictravelguide.com/mc-events/feast-of-saint-l
 awrence-of-brindisi-doctor-of-the-church/?mc_id=14527
METHOD:PUBLISH
END:VEVENT
END:VCALENDAR